BEGIN:VCALENDAR
VERSION:2.0
PRODID:-//Tukios.com/
BEGIN:VEVENT
UID:d3858afb-c647-46e4-94bd-442013e604d3@www.hart-wyattfuneralhome.com
DTSTAMP:20260422T031315Z
DTSTART:20260423T180000Z
DTEND:20260423T190000Z
SUMMARY:Graveside Service
DESCRIPTION:
URL:https://www.hart-wyattfuneralhome.com/obituaries/donald-goodeagle
LOCATION:Chaui Cemetery West of Town  Pawnee OK 74058
GEO:36.3378321;-96.8039232
END:VEVENT
END:VCALENDAR