BEGIN:VCALENDAR
VERSION:2.0
PRODID:-//Tukios.com/
BEGIN:VEVENT
UID:4d277eb2-3320-4015-aa19-db56d04a06bf@www.hart-wyattfuneralhome.com
DTSTAMP:20260422T031013Z
DTSTART:20260422T140000Z
DTEND:20260422T150000Z
SUMMARY:Viewing
DESCRIPTION:
URL:https://www.hart-wyattfuneralhome.com/obituaries/donald-goodeagle
LOCATION:Hart-Wyatt Funeral Home Chapel 202 E. Colorado St.  Walters OK 
	73572
GEO:34.357604;-98.3071869
END:VEVENT
END:VCALENDAR