BEGIN:VCALENDAR
VERSION:2.0
PRODID:-//Tukios.com/
BEGIN:VEVENT
UID:cefde660-a514-4ad1-992f-32cc161bee33@www.hart-wyattfuneralhome.com
DTSTAMP:20260422T031007Z
DTSTART:20260422T233000Z
DTEND:20260423T003000Z
SUMMARY:Prayer Service
DESCRIPTION:
URL:https://www.hart-wyattfuneralhome.com/obituaries/donald-goodeagle
LOCATION:Hart-Wyatt Funeral Home Chapel 202 E. Colorado St.  Walters OK 
	73572
GEO:34.357604;-98.3071869
END:VEVENT
END:VCALENDAR