BEGIN:VCALENDAR
VERSION:2.0
PRODID:-//Tukios.com/
BEGIN:VEVENT
UID:4562ce5a-cd9d-439b-8b1c-5b1485d0b691@www.hart-wyattfuneralhome.com
DTSTAMP:20260425T193053Z
DTSTART:20260430T230000Z
DTEND:20260501T010000Z
SUMMARY:Visitation
DESCRIPTION:
URL:https://www.hart-wyattfuneralhome.com/obituaries/nancy-orlando
LOCATION: 122 West Texas Street  Temple OK 73568
GEO:34.2696593;-98.2369785
END:VEVENT
END:VCALENDAR