BEGIN:VCALENDAR
VERSION:2.0
PRODID:-//Tukios.com/
BEGIN:VEVENT
UID:b01b1254-afd1-4271-9d0c-0188e5808d23@www.hart-wyattfuneralhome.com
DTSTAMP:20260423T023640Z
DTSTART:20260424T160000Z
DTEND:20260424T170000Z
SUMMARY:Graveside Service
DESCRIPTION:
URL:https://www.hart-wyattfuneralhome.com/obituaries/patti-scattergood
LOCATION: 969 W. Missouri St  Walters OK 73572
GEO:34.3621032;-98.3178094
END:VEVENT
END:VCALENDAR